BEGIN:VCALENDAR
VERSION:2.0
PRODID:-//ChamberMaster//Event Calendar 2.0//EN
METHOD:PUBLISH
X-PUBLISHED-TTL:P3D
REFRESH-INTERVAL:P3D
CALSCALE:GREGORIAN
BEGIN:VEVENT
DTSTART:20250402T160000Z
DTEND:20250402T180000Z
X-MICROSOFT-CDO-ALLDAYEVENT:FALSE
SUMMARY:New Step Outreach Fundraiser Plates
DESCRIPTION:New Step Outreach \n\n$8 Lunch Plate Fundraiser\n\n**All orders need to be in by 3:00 PM on March 28th\n\n\n\nSmothered Cajun Turkey over Mashed Potatoes\n\nGreen Beans\n\nBread Pudding\n\n\n\nNew Step Outreach 337-226-5602\n\n\n\nAll Proceeds to benefit New Step Outreach
X-ALT-DESC;FMTTYPE=text/html:New Step Outreach&nbsp\;<br />\n$8 Lunch Plate Fundraiser<br />\n**All orders need to be in by 3:00 PM on March 28th<br />\n<br />\nSmothered Cajun Turkey over Mashed Potatoes<br />\nGreen Beans<br />\nBread Pudding<br />\n<br />\nNew Step Outreach 337-226-5602<br />\n<br />\nAll Proceeds to benefit New Step Outreach
LOCATION:2154 Hwy 171\; DeRIdder\, LA
UID:e.2676.1594
SEQUENCE:3
DTSTAMP:20260421T083946Z
URL:http://business.beauchamber.org/events/details/new-step-outreach-fundraiser-plates-1594
END:VEVENT

END:VCALENDAR
