BEGIN:VCALENDAR
VERSION:2.0
PRODID:-//ChamberMaster//Event Calendar 2.0//EN
METHOD:PUBLISH
X-PUBLISHED-TTL:P3D
REFRESH-INTERVAL:P3D
CALSCALE:GREGORIAN
BEGIN:VEVENT
DTSTART:20241220T130000Z
DTEND:20241220T160000Z
X-MICROSOFT-CDO-ALLDAYEVENT:FALSE
SUMMARY:Shriners Pancake CHRISTMAS Breakfast
DESCRIPTION:Shriners CHRISTMAS Pancake Breakfast\n\nDate: Friday\, December 20\, 2024\n\nTime: 7:00 AM to 10:00 AM\n\n$12 Per Person\n\n10 years & Under eat FREE\n\n\n\nMeal Includes:\n\nPancakes with choice of\n\nSausage or Bacon\n\nCoffee or Orange Juice\n\n\n\nLocation:\n\n105 N. Washington Ave.\; DeRidder\, La\n\nBrought to you by the Southwest Louisiana Shrine Club.
X-ALT-DESC;FMTTYPE=text/html:<div class="xdj266r x11i5rnm xat24cr x1mh8g0r x1vvkbs" style="margin: 0px\; overflow-wrap: break-word\; font-family: &quot\;Segoe UI Historic&quot\;\, &quot\;Segoe UI&quot\;\, Helvetica\, Arial\, sans-serif\; color: rgb(5\, 5\, 5)\; font-size: 15px\; background-color: rgb(255\, 255\, 255)\;">\n<div class="xdj266r x11i5rnm xat24cr x1mh8g0r x1vvkbs x126k92a" style="margin: 0px\; overflow-wrap: break-word\; white-space-collapse: preserve\; font-family: &quot\;Segoe UI Historic&quot\;\, &quot\;Segoe UI&quot\;\, Helvetica\, Arial\, sans-serif\; color: rgb(8\, 8\, 9)\; font-size: 15px\; background-color: rgb(255\, 255\, 255)\;">\n<div dir="auto" style="font-family: inherit\;"><span style="color:#B22222\;"><strong>Shriners CHRISTMAS Pancake Breakfast</strong></span><br />\n<span style="color:#B22222\;"><strong>Date: Friday\, December 20\, 2024</strong></span><br />\n<span style="color:#B22222\;"><strong>Time: 7:00 AM to 10:00 AM</strong></span><br />\n<span style="color:#B22222\;"><strong>$12 Per Person<br />\n10 years &amp\; Under eat FREE</strong></span></div>\n</div>\n\n<div class="x11i5rnm xat24cr x1mh8g0r x1vvkbs xtlvy1s x126k92a" style="margin: 0.5em 0px 0px\; overflow-wrap: break-word\; white-space-collapse: preserve\; font-family: &quot\;Segoe UI Historic&quot\;\, &quot\;Segoe UI&quot\;\, Helvetica\, Arial\, sans-serif\; color: rgb(8\, 8\, 9)\; font-size: 15px\; background-color: rgb(255\, 255\, 255)\;">\n<div dir="auto" style="font-family: inherit\;"><span style="color:#B22222\;"><strong>Meal Includes:</strong></span><br />\n<span style="color:#B22222\;"><strong>Pancakes with choice of</strong></span><br />\n<span style="color:#B22222\;"><strong>Sausage or Bacon</strong></span><br />\n<span style="color:#B22222\;"><strong>Coffee or Orange Juice</strong></span></div>\n</div>\n\n<div class="x11i5rnm xat24cr x1mh8g0r x1vvkbs xtlvy1s x126k92a" style="margin: 0.5em 0px 0px\; overflow-wrap: break-word\; white-space-collapse: preserve\; font-family: &quot\;Segoe UI Historic&quot\;\, &quot\;Segoe UI&quot\;\, Helvetica\, Arial\, sans-serif\; color: rgb(8\, 8\, 9)\; font-size: 15px\; background-color: rgb(255\, 255\, 255)\;">\n<div dir="auto" style="font-family: inherit\;"><span style="color:#B22222\;"><strong>Location:</strong></span><br />\n<span style="color:#B22222\;"><strong>105 N. Washington Ave.\; DeRidder\, La</strong></span><br />\n<span style="color:#B22222\;"><strong>Brought to you by the Southwest Louisiana Shrine Club.</strong></span></div>\n</div>\n</div>\n
LOCATION:105 N Washington Ave\; DeRidder\, LA 70634
UID:e.2676.1549
SEQUENCE:3
DTSTAMP:20260419T134517Z
URL:http://business.beauchamber.org/events/details/shriners-pancake-christmas-breakfast-1549
END:VEVENT

END:VCALENDAR
