BEGIN:VCALENDAR
VERSION:2.0
PRODID:-//ChamberMaster//Event Calendar 2.0//EN
METHOD:PUBLISH
X-PUBLISHED-TTL:P3D
REFRESH-INTERVAL:P3D
CALSCALE:GREGORIAN
BEGIN:VEVENT
DTSTART:20260501T140000Z
DTEND:20260504T000000Z
X-MICROSOFT-CDO-ALLDAYEVENT:FALSE
SUMMARY:A Call to Honor: The Tomb of the Unknown Soldier Replica
DESCRIPTION:A Call to Honor: The Tomb of the Unknown Soldier Replica\n\nOur community has a rare and powerful opportunity to experience a moving tribute to those who gave everything for our freedom.\n\nThe Tomb of the Unknown Soldier Replica will be on display at the War Memorial Civic Center Auditorium the historic first off-base USO in the United States.\n\nExhibit Dates & Times:\n\n  Friday\, May 1 | 9:00 AM   7:00 PM\n\n  Saturday\, May 2 | 9:00 AM   7:00 PM\n\n  Sunday\, May 3 | 10:00 AM   5:00 PM\n\nThis half-size replica honors the unknown soldiers from World War I\, World War II\, the Korean War\, and the Vietnam War heroes whose names may be unknown\, but whose sacrifice will never be forgotten.\n\n*Take a moment to reflect\, honor\, and remember.\n\n*Bring your family and experience this meaningful exhibit together.\n\nFREE ADMISSION\n\nDonations are appreciated and benefit the Exchange Club of Rome\, GA\n\nWMCC Auditorium\n\n250 West 7th Street\, DeRidder\n\nLet's come together as a community to pay our respects and honor those who made the ultimate sacrifice.   \n\n#CallToHonor #DeRidderLA #HonorOurHeroes #NeverForget
X-ALT-DESC;FMTTYPE=text/html:<p data-end="126" data-start="54"><strong data-end="119" data-start="59">A Call to Honor: The Tomb of the Unknown Soldier Replica</strong></p>\n\n<p data-end="256" data-start="128">Our community has a rare and powerful opportunity to experience a moving tribute to those who gave everything for our freedom.</p>\n\n<p data-end="424" data-start="258">The <strong data-end="301" data-start="262">Tomb of the Unknown Soldier Replica</strong> will be on display at the <strong data-end="368" data-start="328">War Memorial Civic Center Auditorium</strong>&mdash\;the historic first off-base USO in the United States.</p>\n\n<p data-end="586" data-start="426"><strong data-end="455" data-start="429">Exhibit Dates &amp\; Times:</strong><br data-end="458" data-start="455" />\n&bull\; <strong data-end="477" data-start="460">Friday\, May 1</strong> | 9:00 AM &ndash\; 7:00 PM<br data-end="500" data-start="497" />\n&bull\; <strong data-end="521" data-start="502">Saturday\, May 2</strong> | 9:00 AM &ndash\; 7:00 PM<br data-end="544" data-start="541" />\n&bull\; <strong data-end="563" data-start="546">Sunday\, May 3</strong> | 10:00 AM &ndash\; 5:00 PM</p>\n\n<p data-end="792" data-start="588">This half-size replica honors the unknown soldiers from <strong data-end="710" data-start="644">World War I\, World War II\, the Korean War\, and the Vietnam War</strong>&mdash\;heroes whose names may be unknown\, but whose sacrifice will never be forgotten.</p>\n\n<p data-end="915" data-start="794">*Take a moment to reflect\, honor\, and remember.<br data-end="845" data-start="842" />\n*Bring your family and experience this meaningful exhibit together.</p>\n\n<p data-end="1013" data-start="917"><strong data-end="938" data-start="920">FREE ADMISSION</strong><br data-end="941" data-start="938" />\nDonations are appreciated and benefit the Exchange Club of Rome\, GA</p>\n\n<p data-end="1071" data-start="1015"><strong data-end="1037" data-start="1018">WMCC Auditorium</strong><br data-end="1040" data-start="1037" />\n250 West 7th Street\, DeRidder</p>\n\n<p data-end="1183" data-start="1073">Let&rsquo\;s come together as a community to pay our respects and honor those who made the ultimate sacrifice. &#127482\;&#127480\;</p>\n\n<p data-end="1238" data-is-last-node="" data-is-only-node="" data-start="1185">#CallToHonor #DeRidderLA #HonorOurHeroes #NeverForget</p>\n
LOCATION:War Memorial Civic Center Auditorium 250 West 7th Street\, DeRidder
UID:e.2676.1709
SEQUENCE:3
DTSTAMP:20260424T001617Z
URL:https://business.beauchamber.org/events/details/a-call-to-honor-the-tomb-of-the-unknown-soldier-replica-1709
END:VEVENT

END:VCALENDAR
