BEGIN:VCALENDAR
VERSION:2.0
PRODID:-//ChamberMaster//Event Calendar 2.0//EN
METHOD:PUBLISH
X-PUBLISHED-TTL:P3D
REFRESH-INTERVAL:P3D
CALSCALE:GREGORIAN
BEGIN:VEVENT
DTSTART:20250920T230000Z
DTEND:20250921T030000Z
X-MICROSOFT-CDO-ALLDAYEVENT:FALSE
SUMMARY:Beauregard Cattlemen's Association: 2025 Banquet & Auction
DESCRIPTION:The Beauregard Cattlemen's Association is proud to announce its annual Barbwire & Rhinestone Banquet and Auction\, to be held on Saturday\, September 20\, 2025\, at 6:00 PM at the Impromptu Theater\, located at 102 E 1st Street\, DeRidder\, Louisiana.\n\n \n\nThis sparkling evening promises fun\, food\, and fundraising in true western style. Guests will enjoy a mouthwatering ribeye steak dinner with all the fixings\, plus live entertainment\, door prizes\, and both live and silent auctions featuring an array of items from local artisans\, businesses\, and supporters.\n\n \n\nTickets are $50 per person and include full access to the evening's dinner and festivities. Proceeds from the event support local agricultural education\, youth programs\, and the ongoing mission of the Beauregard Cattlemen's Association to promote and protect the cattle industry in Beauregard Parish.\n\n \n\n"We're excited to bring the community together for a night of celebration\, great food\, and fellowship\," said Jeffery Meadows\,  of the Beauregard Cattlemen's Association. "The Barbwire & Rhinestone theme captures the spirit of our hardworking cattlemen and women\, with a touch of sparkle for a special night out."\n\n \n\nTickets are available through association members while supplies last. Auction items are always welcome!!\n\n\n\nPat Andrews 337-375-5966\n\nJeff Meadows 337-396-9999\n\nLezlie Midkiff 337-375-4887\n\nKen Rayford 281-782-9537
X-ALT-DESC;FMTTYPE=text/html:<p style="color: rgb(34\, 34\, 34)\; background-color: rgb(255\, 255\, 255)\; margin: 0px 0px 12px\; font-stretch: normal\; font-size: 20px\; line-height: normal\; font-size-adjust: none\; font-kerning: auto\; font-variant-alternates: normal\; font-variant-numeric: normal\; font-variant-east-asian: normal\; font-feature-settings: normal\;"><span style="font-kerning: none\;">The Beauregard Cattlemen&rsquo\;s Association is proud to announce its annual Barbwire &amp\; Rhinestone Banquet and Auction\, to be held on Saturday\, September 20\, 2025\, at 6:00 PM at the Impromptu Theater\, located at 102 E 1st Street\, DeRidder\, Louisiana.</span></p>\n\n<p style="color: rgb(34\, 34\, 34)\; background-color: rgb(255\, 255\, 255)\; margin: 0px 0px 12px\; font-stretch: normal\; font-size: 12px\; line-height: normal\; font-size-adjust: none\; font-kerning: auto\; font-variant-alternates: normal\; font-variant-numeric: normal\; font-variant-east-asian: normal\; font-feature-settings: normal\; min-height: 13.8px\;">&nbsp\;</p>\n\n<p style="color: rgb(34\, 34\, 34)\; background-color: rgb(255\, 255\, 255)\; margin: 0px 0px 12px\; font-stretch: normal\; font-size: 20px\; line-height: normal\; font-size-adjust: none\; font-kerning: auto\; font-variant-alternates: normal\; font-variant-numeric: normal\; font-variant-east-asian: normal\; font-feature-settings: normal\;"><span style="font-kerning: none\;">This sparkling evening promises fun\, food\, and fundraising in true western style. Guests will enjoy a mouthwatering ribeye steak dinner with all the fixings\, plus live entertainment\, door prizes\, and both live and silent auctions featuring an array of items from local artisans\, businesses\, and supporters.</span></p>\n\n<p style="color: rgb(34\, 34\, 34)\; background-color: rgb(255\, 255\, 255)\; margin: 0px 0px 12px\; font-stretch: normal\; font-size: 12px\; line-height: normal\; font-size-adjust: none\; font-kerning: auto\; font-variant-alternates: normal\; font-variant-numeric: normal\; font-variant-east-asian: normal\; font-feature-settings: normal\; min-height: 13.8px\;">&nbsp\;</p>\n\n<p style="color: rgb(34\, 34\, 34)\; background-color: rgb(255\, 255\, 255)\; margin: 0px 0px 12px\; font-stretch: normal\; font-size: 20px\; line-height: normal\; font-size-adjust: none\; font-kerning: auto\; font-variant-alternates: normal\; font-variant-numeric: normal\; font-variant-east-asian: normal\; font-feature-settings: normal\;"><span style="font-kerning: none\;">Tickets are $50 per person and include full access to the evening&rsquo\;s dinner and festivities. Proceeds from the event support local agricultural education\, youth programs\, and the ongoing mission of the Beauregard Cattlemen&rsquo\;s Association to promote and protect the cattle industry in Beauregard Parish.</span></p>\n\n<p style="color: rgb(34\, 34\, 34)\; background-color: rgb(255\, 255\, 255)\; margin: 0px 0px 12px\; font-stretch: normal\; font-size: 12px\; line-height: normal\; font-size-adjust: none\; font-kerning: auto\; font-variant-alternates: normal\; font-variant-numeric: normal\; font-variant-east-asian: normal\; font-feature-settings: normal\; min-height: 13.8px\;">&nbsp\;</p>\n\n<p style="color: rgb(34\, 34\, 34)\; background-color: rgb(255\, 255\, 255)\; margin: 0px 0px 12px\; font-stretch: normal\; font-size: 20px\; line-height: normal\; font-size-adjust: none\; font-kerning: auto\; font-variant-alternates: normal\; font-variant-numeric: normal\; font-variant-east-asian: normal\; font-feature-settings: normal\;"><span style="font-kerning: none\;">&ldquo\;We&rsquo\;re excited to bring the community together for a night of celebration\, great food\, and fellowship\,&rdquo\; said Jeffery Meadows\,&nbsp\; of the Beauregard Cattlemen&rsquo\;s Association. &ldquo\;The Barbwire &amp\; Rhinestone theme captures the spirit of our hardworking cattlemen and women\, with a touch of sparkle for a special night out.&rdquo\;</span></p>\n\n<p style="color: rgb(34\, 34\, 34)\; background-color: rgb(255\, 255\, 255)\; margin: 0px 0px 12px\; font-stretch: normal\; font-size: 12px\; line-height: normal\; font-size-adjust: none\; font-kerning: auto\; font-variant-alternates: normal\; font-variant-numeric: normal\; font-variant-east-asian: normal\; font-feature-settings: normal\; min-height: 13.8px\;">&nbsp\;</p>\n\n<p style="color: rgb(34\, 34\, 34)\; background-color: rgb(255\, 255\, 255)\; margin: 0px 0px 12px\; font-stretch: normal\; font-size: 20px\; line-height: normal\; font-size-adjust: none\; font-kerning: auto\; font-variant-alternates: normal\; font-variant-numeric: normal\; font-variant-east-asian: normal\; font-feature-settings: normal\;"><span style="font-kerning: none\;">Tickets are available through association members&nbsp\;while supplies last. Auction items are always welcome!!<br />\n<br />\nPat Andrews 337-375-5966<br />\nJeff Meadows 337-396-9999<br />\nLezlie Midkiff 337-375-4887<br />\nKen Rayford 281-782-9537</span></p>\n
LOCATION:Impromptu Theater 102 E 1st Street\, DeRidder\, LA
UID:e.2676.1643
SEQUENCE:3
DTSTAMP:20260420T095944Z
URL:https://business.beauchamber.org/events/details/beauregard-cattlemen-s-association-2025-banquet-auction-1643
END:VEVENT

END:VCALENDAR
