BEGIN:VCALENDAR
VERSION:2.0
PRODID:-//ChamberMaster//Event Calendar 2.0//EN
METHOD:PUBLISH
X-PUBLISHED-TTL:P3D
REFRESH-INTERVAL:P3D
CALSCALE:GREGORIAN
BEGIN:VEVENT
DTSTART:20251019T000000Z
DTEND:20251019T020000Z
X-MICROSOFT-CDO-ALLDAYEVENT:FALSE
SUMMARY:Cancer Ribbon Paint & Sip Night by Tracy Reynolds with Corbin Enterprises
DESCRIPTION:Cancer Ribbon Paint & Sip Night \n\nAn Evening of Creativity\, Community & Cause\n\n \n\nJoin us for a special night of painting\, good food\, and inspiration at the Cancer Ribbon Paint & Sip   all while supporting a great cause!\n\n \n\nDate: Saturday\, October 18\, 2025\n\nTime: 7:00 PM   9:00 PM\n\nLocation: TLC Event Center: 2496 Hwy 190 W\, DeRidder\, LA 70634\n\nDonation: $30.00 per person\n\nContact: Tracy Reynolds with Corbin Enterprises   773-817-2425\n\n \n\nWhat to Expect:\n\nGuided Ribbon Painting Session\n\nDelicious Dinner featuring: Shrimp Alfredo or Spaghetti with Ground Beef\, Garlic Bread & Salad\n\nFun Games & Prizes\n\n \n\nAll proceeds benefit the DHS Prom Drive\, helping local students have the prom experience they deserve.\n\n \n\nCome paint\, sip\, eat\, and be inspired   all while making a difference! Reserve your spot today and be part of a night that brings hope and help to our community.
X-ALT-DESC;FMTTYPE=text/html:<span style="color:#080809\;"><span style="font-family:inherit\,serif\;"><span style="font-size:11.5pt\;">Cancer Ribbon Paint &amp\; Sip Night </span></span></span><br />\n<span style="color:#080809\;"><span style="font-family:inherit\,serif\;"><span style="font-size:11.5pt\;">An Evening of Creativity\, Community &amp\; Cause</span></span></span><br />\n&nbsp\;<br />\n<span style="color:#080809\;"><span style="font-family:inherit\,serif\;"><span style="font-size:11.5pt\;">Join us for a special night of painting\, good food\, and inspiration at the Cancer Ribbon Paint &amp\; Sip &mdash\; all while supporting a great cause!</span></span></span><br />\n&nbsp\;<br />\n<span style="color:#080809\;"><span style="font-family:inherit\,serif\;"><span style="font-size:11.5pt\;">Date: Saturday\, October 18\, 2025</span></span></span><br />\n<span style="color:#080809\;"><span style="font-family:inherit\,serif\;"><span style="font-size:11.5pt\;">Time: 7:00 PM &ndash\; 9:00 PM</span></span></span><br />\n<span style="color:#080809\;"><span style="font-family:inherit\,serif\;"><span style="font-size:11.5pt\;">Location: TLC Event Center: 2496 Hwy 190 W\, DeRidder\, LA 70634</span></span></span><br />\n<span style="color:#080809\;"><span style="font-family:inherit\,serif\;"><span style="font-size:11.5pt\;">Donation: $30.00 per person</span></span></span><br />\n<span style="color:#080809\;"><span style="font-family:inherit\,serif\;"><span style="font-size:11.5pt\;">Contact: Tracy Reynolds with Corbin Enterprises &ndash\; 773-817-2425</span></span></span><br />\n&nbsp\;<br />\n<span style="color:#080809\;"><span style="font-family:inherit\,serif\;"><span style="font-size:11.5pt\;">What to Expect:</span></span></span><br />\n<span style="color:#080809\;"><span style="font-family:inherit\,serif\;"><span style="font-size:11.5pt\;">Guided Ribbon Painting Session</span></span></span><br />\n<span style="color:#080809\;"><span style="font-family:inherit\,serif\;"><span style="font-size:11.5pt\;">Delicious Dinner featuring: Shrimp Alfredo or Spaghetti with Ground Beef\, Garlic Bread &amp\; Salad</span></span></span><br />\n<span style="color:#080809\;"><span style="font-family:inherit\,serif\;"><span style="font-size:11.5pt\;">Fun Games &amp\; Prizes</span></span></span><br />\n&nbsp\;<br />\n<span style="color:#080809\;"><span style="font-family:inherit\,serif\;"><span style="font-size:11.5pt\;">All proceeds benefit the DHS Prom Drive\, helping local students have the prom experience they deserve.</span></span></span><br />\n&nbsp\;<br />\n<span style="color:#080809\;"><span style="font-family:inherit\,serif\;"><span style="font-size:11.5pt\;">Come paint\, sip\, eat\, and be inspired &mdash\; all while making a difference! Reserve your spot today and be part of a night that brings hope and help to our community.</span></span></span>
LOCATION:Location: TLC Event Center\; 2496 Hwy 190 W\, DeRidder\, LA 70634
UID:e.2676.1645
SEQUENCE:3
DTSTAMP:20260420T112715Z
URL:https://business.beauchamber.org/events/details/cancer-ribbon-paint-sip-night-by-tracy-reynolds-with-corbin-enterprises-1645
END:VEVENT

END:VCALENDAR
