BEGIN:VCALENDAR
VERSION:2.0
PRODID:-//ChamberMaster//Event Calendar 2.0//EN
METHOD:PUBLISH
X-PUBLISHED-TTL:P3D
REFRESH-INTERVAL:P3D
CALSCALE:GREGORIAN
BEGIN:VEVENT
DTSTART:20251011T130000Z
DTEND:20251011T170000Z
X-MICROSOFT-CDO-ALLDAYEVENT:FALSE
SUMMARY:Cancer Walk by the DeRidder Junior Woman's Club
DESCRIPTION:DJWC Celebrates 20 Years of "Walking for the Cure" at Annual Cancer Walk   October 11\, 2025\n\nJoin Us at the Beauregard Fairgrounds to Support Local Cancer Patients\n\nThe DeRidder Junior Women's Club (DJWC) proudly invites the community to join them in celebrating a powerful milestone: the 20th Annual DJWC Cancer Walk on Saturday\, October 11\, 2025\, at the Beauregard Parish Fairgrounds.\n\n \n\nThis year marks two decades of walking hand-in-hand with our community in the fight against cancer. Under the banner "Walk for the Cure\," the event honors survivors\, remembers those we've lost\, and raises critical funds to support cancer patients right here in Beauregard Parish.\n\n \n\nWalk Details:\n\nSaturday\, October 11\, 2025\n\nBeauregard Fairgrounds\, DeRidder\, LA\n\nTime:\n\n6:00 AM Registration\n\n8:00 AM Walk Starts\n\nRegistration Includes a T-Shirt!\n\nAll proceeds stay local   directly helping cancer patients in our community.\n\nParticipants can register and pick up their shirts now at Beauregard Credit located at 101 N Washington Street.\n\n"Twenty years ago\, we started this walk with a vision of hope\," said Charity Lewing\, DJWC Event Chair. "Today\, we're proud to continue that mission stronger than ever. When you walk with us\, you're walking for your neighbors\, friends\, and family who are fighting cancer."\n\n\n\nWhether you're walking in memory\, in celebration\, or in support   your steps make a difference.
X-ALT-DESC;FMTTYPE=text/html:<p style="margin-top:0in\;margin-right:0in\;margin-bottom:10.5pt\;margin-left:\n0in\;background:white"><span style="font-family:arial\;"><span style="color:#ff0099\;"><span style="font-size:20px\;"><b>DJWC Celebrates 20 Years of &ldquo\;Walking for the Cure&rdquo\; at Annual Cancer Walk &ndash\; October 11\, 2025</b></span></span></span><span style="color:#222222"><o:p></o:p></span></p>\n\n<p style="margin-top:0in\;margin-right:0in\;margin-bottom:11.95pt\;margin-left:\n0in\;background:white\;font-variant-ligatures: normal\;font-variant-caps: normal\;\norphans: 2\;text-align:start\;widows: 2\;-webkit-text-stroke-width: 0px\;\ntext-decoration-thickness: initial\;text-decoration-style: initial\;text-decoration-color: initial\;\nfont-stretch: normal\;font-size-adjust: none\;font-kerning: auto\;font-variant-alternates: normal\;\nfont-variant-numeric: normal\;font-variant-east-asian: normal\;font-feature-settings: normal\;\nword-spacing:0px"><span style="font-kerning: none"><b><span style="font-size:\n15.0pt\;font-family:&quot\;TimesNewRomanPS-BoldMT&quot\;\,serif\;color:#222222">Join Us at the Beauregard Fairgrounds to Support Local Cancer Patients</span></b></span><span style="font-size:15.0pt\;color:#222222"><o:p></o:p></span></p>\n\n<p style="margin-top:0in\;margin-right:0in\;margin-bottom:9.0pt\;margin-left:0in\;\nbackground:white"><span style="font-size:15.0pt\;color:#222222">The DeRidder Junior Women&rsquo\;s Club (DJWC) proudly invites the community to join them in celebrating a powerful milestone: the 20th Annual DJWC Cancer Walk on Saturday\, October 11\, 2025\, at the Beauregard Parish Fairgrounds.</span><o:p></o:p></p>\n\n<p style="margin-top:0in\;margin-right:0in\;margin-bottom:9.0pt\;margin-left:0in\;\nbackground:white\;font-variant-ligatures: normal\;font-variant-caps: normal\;\norphans: 2\;text-align:start\;widows: 2\;-webkit-text-stroke-width: 0px\;\ntext-decoration-thickness: initial\;text-decoration-style: initial\;text-decoration-color: initial\;\nfont-stretch: normal\;font-size-adjust: none\;font-kerning: auto\;font-variant-alternates: normal\;\nfont-variant-numeric: normal\;font-variant-east-asian: normal\;font-feature-settings: normal\;\nmin-height: 13.8px\;word-spacing:0px"><span style="font-size:9.0pt\;color:#222222"><o:p>&nbsp\;</o:p></span></p>\n\n<p style="margin-top:0in\;margin-right:0in\;margin-bottom:9.0pt\;margin-left:0in\;\nbackground:white\;font-variant-ligatures: normal\;font-variant-caps: normal\;\norphans: 2\;text-align:start\;widows: 2\;-webkit-text-stroke-width: 0px\;\ntext-decoration-thickness: initial\;text-decoration-style: initial\;text-decoration-color: initial\;\nfont-stretch: normal\;font-size-adjust: none\;font-kerning: auto\;font-variant-alternates: normal\;\nfont-variant-numeric: normal\;font-variant-east-asian: normal\;font-feature-settings: normal\;\nword-spacing:0px"><span style="font-kerning: none"><span style="font-size:15.0pt\;\ncolor:#222222">This year marks two decades of walking hand-in-hand with our community in the fight against cancer. Under the banner &ldquo\;Walk for the Cure\,&rdquo\; the event honors survivors\, remembers those we&rsquo\;ve lost\, and raises critical funds to support cancer patients right here in Beauregard Parish.</span><o:p></o:p></span></p>\n\n<p style="margin-top:0in\;margin-right:0in\;margin-bottom:9.0pt\;margin-left:0in\;\nbackground:white\;font-variant-ligatures: normal\;font-variant-caps: normal\;\norphans: 2\;text-align:start\;widows: 2\;-webkit-text-stroke-width: 0px\;\ntext-decoration-thickness: initial\;text-decoration-style: initial\;text-decoration-color: initial\;\nfont-stretch: normal\;font-size-adjust: none\;font-kerning: auto\;font-variant-alternates: normal\;\nfont-variant-numeric: normal\;font-variant-east-asian: normal\;font-feature-settings: normal\;\nmin-height: 13.8px\;word-spacing:0px"><span style="font-size:9.0pt\;color:#222222"><o:p>&nbsp\;</o:p></span></p>\n\n<p style="margin-top:0in\;margin-right:0in\;margin-bottom:9.0pt\;margin-left:0in\;\nbackground:white\;font-variant-ligatures: normal\;font-variant-caps: normal\;\norphans: 2\;text-align:start\;widows: 2\;-webkit-text-stroke-width: 0px\;\ntext-decoration-thickness: initial\;text-decoration-style: initial\;text-decoration-color: initial\;\nfont-stretch: normal\;font-size-adjust: none\;font-kerning: auto\;font-variant-alternates: normal\;\nfont-variant-numeric: normal\;font-variant-east-asian: normal\;font-feature-settings: normal\;\nword-spacing:0px"><span style="font-kerning: none"><span style="font-size:15.0pt\;\ncolor:#222222">Walk Details:</span><o:p></o:p></span><br />\n<span style="font-kerning: none"><span style="font-size:15.0pt\;\ncolor:#222222">Saturday\, October 11\, 2025</span><o:p></o:p></span></p>\n\n<p style="margin-top:0in\;margin-right:0in\;margin-bottom:9.0pt\;margin-left:0in\;\nbackground:white\;font-variant-ligatures: normal\;font-variant-caps: normal\;\norphans: 2\;text-align:start\;widows: 2\;-webkit-text-stroke-width: 0px\;\ntext-decoration-thickness: initial\;text-decoration-style: initial\;text-decoration-color: initial\;\nfont-stretch: normal\;font-size-adjust: none\;font-kerning: auto\;font-variant-alternates: normal\;\nfont-variant-numeric: normal\;font-variant-east-asian: normal\;font-feature-settings: normal\;\nword-spacing:0px"><span style="font-kerning: none"><span style="font-size:15.0pt\;\ncolor:#222222">Beauregard Fairgrounds\, DeRidder\, LA</span><o:p></o:p></span></p>\n\n<p style="margin-top:0in\;margin-right:0in\;margin-bottom:9.0pt\;margin-left:0in\;\nbackground:white\;font-variant-ligatures: normal\;font-variant-caps: normal\;\norphans: 2\;text-align:start\;widows: 2\;-webkit-text-stroke-width: 0px\;\ntext-decoration-thickness: initial\;text-decoration-style: initial\;text-decoration-color: initial\;\nfont-stretch: normal\;font-size-adjust: none\;font-kerning: auto\;font-variant-alternates: normal\;\nfont-variant-numeric: normal\;font-variant-east-asian: normal\;font-feature-settings: normal\;\nword-spacing:0px"><span style="font-kerning: none"><span style="font-size:15.0pt\;\ncolor:#222222">Time:<br />\n6:00 AM Registration<br />\n8:00 AM Walk Starts</span><o:p></o:p></span></p>\n\n<p style="margin-top:0in\;margin-right:0in\;margin-bottom:9.0pt\;margin-left:0in\;\nbackground:white\;font-variant-ligatures: normal\;font-variant-caps: normal\;\norphans: 2\;text-align:start\;widows: 2\;-webkit-text-stroke-width: 0px\;\ntext-decoration-thickness: initial\;text-decoration-style: initial\;text-decoration-color: initial\;\nfont-stretch: normal\;font-size-adjust: none\;font-kerning: auto\;font-variant-alternates: normal\;\nfont-variant-numeric: normal\;font-variant-east-asian: normal\;font-feature-settings: normal\;\nword-spacing:0px"><span style="font-kerning: none"><span style="font-size:15.0pt\;\ncolor:#222222">Registration Includes a T-Shirt!</span><o:p></o:p></span></p>\n\n<p style="margin-top:0in\;margin-right:0in\;margin-bottom:9.0pt\;margin-left:0in\;\nbackground:white\;font-variant-ligatures: normal\;font-variant-caps: normal\;\norphans: 2\;text-align:start\;widows: 2\;-webkit-text-stroke-width: 0px\;\ntext-decoration-thickness: initial\;text-decoration-style: initial\;text-decoration-color: initial\;\nfont-stretch: normal\;font-size-adjust: none\;font-kerning: auto\;font-variant-alternates: normal\;\nfont-variant-numeric: normal\;font-variant-east-asian: normal\;font-feature-settings: normal\;\nword-spacing:0px"><span style="font-kerning: none"><span style="font-size:15.0pt\;\ncolor:#222222">All proceeds stay local &ndash\; directly helping cancer patients in our community.</span><o:p></o:p></span></p>\n\n<p style="margin-top:0in\;margin-right:0in\;margin-bottom:9.0pt\;margin-left:0in\;\nbackground:white"><span style="font-size:15.0pt\;color:#222222">Participants can register and pick up their shirts now at Beauregard Credit located at 101 N&nbsp\;Washington Street.</span><o:p></o:p></p>\n\n<p style="margin-top:0in\;margin-right:0in\;margin-bottom:9.0pt\;margin-left:0in\;\nbackground:white"><span style="font-size:15.0pt\;color:#222222">&ldquo\;Twenty years ago\, we started this walk with a vision of hope\,&rdquo\; said Charity Lewing\, DJWC Event Chair. &ldquo\;Today\, we&rsquo\;re proud to continue that mission stronger than ever. When you walk with us\, you&rsquo\;re walking for your neighbors\, friends\, and family who are fighting cancer.&rdquo\;</span><br />\n<o:p></o:p></p>\n\n<p style="margin-top:0in\;margin-right:0in\;margin-bottom:9.0pt\;margin-left:0in\;\nbackground:white\;font-variant-ligatures: normal\;font-variant-caps: normal\;\norphans: 2\;text-align:start\;widows: 2\;-webkit-text-stroke-width: 0px\;\ntext-decoration-thickness: initial\;text-decoration-style: initial\;text-decoration-color: initial\;\nfont-stretch: normal\;font-size-adjust: none\;font-kerning: auto\;font-variant-alternates: normal\;\nfont-variant-numeric: normal\;font-variant-east-asian: normal\;font-feature-settings: normal\;\nword-spacing:0px"><span style="font-kerning: none"><span style="font-size:15.0pt\;\ncolor:#222222">Whether you&rsquo\;re walking in memory\, in celebration\, or in support &mdash\; your steps make a difference.</span><o:p></o:p></span></p>\n
LOCATION:Beauregard Fairgrounds\, DeRidder\, LA
UID:e.2676.1647
SEQUENCE:3
DTSTAMP:20260420T112835Z
URL:https://business.beauchamber.org/events/details/cancer-walk-by-the-deridder-junior-woman-s-club-1647
END:VEVENT

END:VCALENDAR
