BEGIN:VCALENDAR
VERSION:2.0
PRODID:-//ChamberMaster//Event Calendar 2.0//EN
METHOD:PUBLISH
X-PUBLISHED-TTL:P3D
REFRESH-INTERVAL:P3D
CALSCALE:GREGORIAN
BEGIN:VEVENT
DTSTART:20260501T230000Z
DTEND:20260502T000000Z
X-MICROSOFT-CDO-ALLDAYEVENT:FALSE
SUMMARY:Driven To Graduate Car Giveaway at Benoit Nissan
DESCRIPTION:The community is invited to join Benoit Nissan for a very special evening celebrating our local seniors at the Driven to Graduate Giveaway Drawing.\n\nFriday\, May 1\n\n6:00 PM   7:00 PM\n\nBenoit Nissan\n\nAll registered students will receive a personalized invitation by email. Students must check in upon arrival and be present to win.\n\nSeveral prizes will be awarded throughout the evening\, with the grand prize being a brand new car for one deserving senior.\n\nBenoit Nissan will also be serving hot dogs\, chips\, and drinks for students\, their families\, and members of the community. Everyone is encouraged to come out\, show support\, and be part of this exciting night.\n\nThere is still time for seniors to register at benoitgivesback.com. Registration will close on Thursday\, April 30 at 9:00 AM.\n\nJoin us as we celebrate\, support\, and invest in the future of our local students. One senior will drive away with a life-changing gift\, and it will be a night to remember.
X-ALT-DESC;FMTTYPE=text/html:<p data-end="229" data-start="78">The community is invited to join Benoit Nissan for a very special evening celebrating our local seniors at the <strong data-end="228" data-start="189">Driven to Graduate Giveaway Drawing</strong>.</p>\n\n<p data-end="300" data-start="231"><strong data-end="251" data-start="234">Friday\, May 1</strong><br data-end="254" data-start="251" />\n<strong data-end="277" data-start="256">6:00 PM &ndash\; 7:00 PM</strong><br data-end="280" data-start="277" />\n<strong data-end="300" data-start="283">Benoit Nissan</strong></p>\n\n<p data-end="433" data-start="302">All registered students will receive a personalized invitation by email. Students must check in upon arrival and be present to win.</p>\n\n<p data-end="558" data-start="435">Several prizes will be awarded throughout the evening\, with the grand prize being a brand new car for one deserving senior.</p>\n\n<p data-end="768" data-start="560">Benoit Nissan will also be serving hot dogs\, chips\, and drinks for students\, their families\, and members of the community. Everyone is encouraged to come out\, show support\, and be part of this exciting night.</p>\n\n<p data-end="899" data-start="770">There is still time for seniors to register at <strong data-end="840" data-start="817">benoitgivesback.com</strong>. Registration will close on Thursday\, April 30 at 9:00 AM.</p>\n\n<p data-end="1072" data-is-last-node="" data-is-only-node="" data-start="901">Join us as we celebrate\, support\, and invest in the future of our local students. One senior will drive away with a life-changing gift\, and it will be a night to remember.</p>\n
LOCATION:Benoit Nissan 18644 Johnnie B Hall Memorial Hwy DeRidder\, LA
UID:e.2676.1710
SEQUENCE:3
DTSTAMP:20260424T000739Z
URL:https://business.beauchamber.org/events/details/driven-to-graduate-car-giveaway-at-benoit-nissan-1710
END:VEVENT

END:VCALENDAR
