BEGIN:VCALENDAR
VERSION:2.0
PRODID:-//ChamberMaster//Event Calendar 2.0//EN
METHOD:PUBLISH
X-PUBLISHED-TTL:P3D
REFRESH-INTERVAL:P3D
CALSCALE:GREGORIAN
BEGIN:VEVENT
DTSTART:20250813T170000Z
DTEND:20250813T180000Z
X-MICROSOFT-CDO-ALLDAYEVENT:FALSE
SUMMARY:FREE Business Workshop: Make Your Website Work for You
DESCRIPTION:Join Mr. Dean Day with the Louisiana Small Business Development Center for a FREE Business Workshop on\n\nWednesday\, August 13 at 12:00 PM\n\nFREE Business Workshop: Make Your Website Work for You\n\n\n	A website is an important component of every brand's online marketing strategy. It's one of many touchpoints that influences shoppers making purchase decisions. But in order to help sell your products and services\, the website has to deliver a great user experience\, immediately. \n	According to statistics compiled by Forbes Advisor\, website visitors form an opinion about a website in 0.05 seconds. People are clearly impatient\; 47% of users won't wait longer than two seconds for a website to load. \n	Never has the expression "You never get a second chance to make a first impression" seemed more apropos. Forbes Advisor shared another statistic stating that a whopping "88% of online users won't return to a website after a bad experience." \n	This workshop will show you ways to create or update your website and offer a positive user experience: one that's easy to navigate\, convenient\, and trustworthy.\n\n\nSpeaker(s): Dean D. Day Business Consultant\n\nRegister here: https://www2.lsbdc.org/reg.aspx?mode=event&event=4450081
X-ALT-DESC;FMTTYPE=text/html:<div class="cdworkshoptextinfo" style="box-sizing: border-box\; font-family: &quot\;Open Sans&quot\;\, sans-serif\; color: var(--dark-color)\; margin: 0px\; padding: 0px\; border: 0px\; font-variant-numeric: inherit\; font-variant-east-asian: inherit\; font-variant-alternates: inherit\; font-variant-position: inherit\; font-variant-emoji: inherit\; font-weight: 600\; font-stretch: inherit\; font-size: 20px\; font-optical-sizing: inherit\; font-size-adjust: inherit\; font-kerning: inherit\; font-feature-settings: inherit\; font-variation-settings: inherit\; vertical-align: baseline\; white-space-collapse: preserve\; opacity: 0.9\; background-color: rgb(255\, 255\, 255)\; line-height: 40px !important\;">Join Mr. Dean Day with the Louisiana Small Business Development Center for a FREE Business Workshop on<br />\nWednesday\, August 13 at 12:00 PM<br />\n<span style="font-size:22px\;"><em><span style="color:#008000\;">FREE Business Workshop: </span></em></span><span style="color:#008000\;">Make Your Website Work for You</span></div>\n\n<ul>\n	<li class="cdworkshoptextinfo" style="box-sizing: border-box\; font-family: &quot\;Open Sans&quot\;\, sans-serif\; color: var(--dark-color)\; margin: 0px\; padding: 0px\; border: 0px\; font-variant-numeric: inherit\; font-variant-east-asian: inherit\; font-variant-alternates: inherit\; font-variant-position: inherit\; font-variant-emoji: inherit\; font-weight: 600\; font-stretch: inherit\; font-size: 20px\; font-optical-sizing: inherit\; font-size-adjust: inherit\; font-kerning: inherit\; font-feature-settings: inherit\; font-variation-settings: inherit\; vertical-align: baseline\; white-space-collapse: preserve\; opacity: 0.9\; background-color: rgb(255\, 255\, 255)\; line-height: 40px !important\;"><span style="font-size:16px\;"><span style="color: rgb(17\, 28\, 51)\; font-family: &quot\;Open Sans&quot\;\, sans-serif\; font-weight: 600\; white-space-collapse: preserve\; background-color: rgb(255\, 255\, 255)\;">A website is an important component of every brand&rsquo\;s online marketing strategy. It&rsquo\;s one of many touchpoints that influences shoppers making purchase decisions. But in order to help sell your products and services\, the website has to deliver a great user experience\, immediately. </span></span></li>\n	<li class="cdworkshoptextinfo" style="box-sizing: border-box\; font-family: &quot\;Open Sans&quot\;\, sans-serif\; color: var(--dark-color)\; margin: 0px\; padding: 0px\; border: 0px\; font-variant-numeric: inherit\; font-variant-east-asian: inherit\; font-variant-alternates: inherit\; font-variant-position: inherit\; font-variant-emoji: inherit\; font-weight: 600\; font-stretch: inherit\; font-size: 20px\; font-optical-sizing: inherit\; font-size-adjust: inherit\; font-kerning: inherit\; font-feature-settings: inherit\; font-variation-settings: inherit\; vertical-align: baseline\; white-space-collapse: preserve\; opacity: 0.9\; background-color: rgb(255\, 255\, 255)\; line-height: 40px !important\;"><span style="font-size:16px\;"><span style="color: rgb(17\, 28\, 51)\; font-family: &quot\;Open Sans&quot\;\, sans-serif\; font-weight: 600\; white-space-collapse: preserve\; background-color: rgb(255\, 255\, 255)\;">According to statistics compiled by Forbes Advisor\, website visitors form an opinion about a website in 0.05 seconds. People are clearly impatient\; 47% of users won&rsquo\;t wait longer than two seconds for a website to load. </span></span></li>\n	<li class="cdworkshoptextinfo" style="box-sizing: border-box\; font-family: &quot\;Open Sans&quot\;\, sans-serif\; color: var(--dark-color)\; margin: 0px\; padding: 0px\; border: 0px\; font-variant-numeric: inherit\; font-variant-east-asian: inherit\; font-variant-alternates: inherit\; font-variant-position: inherit\; font-variant-emoji: inherit\; font-weight: 600\; font-stretch: inherit\; font-size: 20px\; font-optical-sizing: inherit\; font-size-adjust: inherit\; font-kerning: inherit\; font-feature-settings: inherit\; font-variation-settings: inherit\; vertical-align: baseline\; white-space-collapse: preserve\; opacity: 0.9\; background-color: rgb(255\, 255\, 255)\; line-height: 40px !important\;"><span style="font-size:16px\;"><span style="color: rgb(17\, 28\, 51)\; font-family: &quot\;Open Sans&quot\;\, sans-serif\; font-weight: 600\; white-space-collapse: preserve\; background-color: rgb(255\, 255\, 255)\;">Never has the expression &ldquo\;You never get a second chance to make a first impression&rdquo\; seemed more apropos. Forbes Advisor shared another statistic stating that a whopping &ldquo\;88% of online users won&rsquo\;t return to a website after a bad experience.&rdquo\; </span></span></li>\n	<li class="cdworkshoptextinfo" style="box-sizing: border-box\; font-family: &quot\;Open Sans&quot\;\, sans-serif\; color: var(--dark-color)\; margin: 0px\; padding: 0px\; border: 0px\; font-variant-numeric: inherit\; font-variant-east-asian: inherit\; font-variant-alternates: inherit\; font-variant-position: inherit\; font-variant-emoji: inherit\; font-weight: 600\; font-stretch: inherit\; font-size: 20px\; font-optical-sizing: inherit\; font-size-adjust: inherit\; font-kerning: inherit\; font-feature-settings: inherit\; font-variation-settings: inherit\; vertical-align: baseline\; white-space-collapse: preserve\; opacity: 0.9\; background-color: rgb(255\, 255\, 255)\; line-height: 40px !important\;"><span style="font-size:16px\;"><span style="color: rgb(17\, 28\, 51)\; font-family: &quot\;Open Sans&quot\;\, sans-serif\; font-weight: 600\; white-space-collapse: preserve\; background-color: rgb(255\, 255\, 255)\;">This workshop will show you ways to create or update your website and offer a positive user experience: one that&rsquo\;s easy to navigate\, convenient\, and trustworthy.</span></span></li>\n</ul>\n\n<p class="cdworkshoptextinfo" data-field="speakers" style="box-sizing: border-box\; font-family: &quot\;Open Sans&quot\;\, sans-serif\; color: var(--dark-color)\; margin: 0px\; padding: 0px\; border: 0px\; font-variant-numeric: inherit\; font-variant-east-asian: inherit\; font-variant-alternates: inherit\; font-variant-position: inherit\; font-variant-emoji: inherit\; font-weight: 600\; font-stretch: inherit\; font-size: 20px\; font-optical-sizing: inherit\; font-size-adjust: inherit\; font-kerning: inherit\; font-feature-settings: inherit\; font-variation-settings: inherit\; vertical-align: baseline\; white-space-collapse: preserve\; opacity: 0.9\; background-color: rgb(255\, 255\, 255)\; line-height: 40px !important\;">Speaker(s): Dean D. Day Business Consultant<br />\n<a href="https://www2.lsbdc.org/workshop.aspx?ekey=4450025"><span style="color:#008000\;">Register here: </span></a><a href="https://www2.lsbdc.org/reg.aspx?mode=event&amp\;event=4450081">https://www2.lsbdc.org/reg.aspx?mode=event&amp\;event=4450081</a></p>\n
LOCATION:111 N Washington Street\; DeRidder\, LA 70634
UID:e.2676.1631
SEQUENCE:3
DTSTAMP:20260421T102624Z
URL:https://business.beauchamber.org/events/details/free-business-workshop-make-your-website-work-for-you-1631
END:VEVENT

END:VCALENDAR
