BEGIN:VCALENDAR
VERSION:2.0
PRODID:-//ChamberMaster//Event Calendar 2.0//EN
METHOD:PUBLISH
X-PUBLISHED-TTL:P3D
REFRESH-INTERVAL:P3D
CALSCALE:GREGORIAN
BEGIN:VEVENT
DTSTART:20250925T160000Z
DTEND:20250925T230000Z
X-MICROSOFT-CDO-ALLDAYEVENT:FALSE
SUMMARY:Grand Opening of Hixson Toyota in DeRidder!!
DESCRIPTION:YOU'RE INVITED!\n\nJoin Us to Celebrate the Grand Opening of HIXSON TOYOTA!\n\nBeauregard Parish's newest dealership is ready to roll   and we want YOU to be part of the celebration!\n\nThursday\, September 25\, 2025\n\n11:00 AM   6:00 PM (CDT)\n\n2517 US-171\, DeRidder\, LA 70634\n\nwww.hixsontoyota.com\n\nContact: Chelsea@hixsonhasit.com\n\nEvent Schedule:\n\nBusiness Community Reception: 11:00 AM   1:00 PM\n\nRibbon Cutting Ceremony: 12:00 PM\n\nToyota Grand Opening Celebration: 4:30 PM   6:00 PM\n\n \n\nCome tour the state-of-the-art dealership\, meet the team\, enjoy light refreshments\, and help us kick off a new era of Toyota in Beauregard Parish!\n\nWhether you're in the market for a new ride or just want to celebrate something BIG happening in DeRidder   you won't want to miss it!\n\nLocation Address:\n\n2517 US-171\, DeRidder\, LA 70634\n\nHixson Has It  and now\, so does DeRidder!
X-ALT-DESC;FMTTYPE=text/html:<div class="xdj266r x14z9mp xat24cr x1lziwak x1vvkbs" style="overflow-wrap: break-word\; margin-inline: 0px\; margin-bottom: 0px\; margin-top: 0px\; font-family: &quot\;Segoe UI Historic&quot\;\, &quot\;Segoe UI&quot\;\, Helvetica\, Arial\, sans-serif\; color: rgb(8\, 8\, 9)\; font-size: 15px\; background-color: rgb(255\, 255\, 255)\;">YOU&rsquo\;RE INVITED!<br class="html-br" />\nJoin Us to Celebrate the Grand Opening of HIXSON TOYOTA!</div>\n\n<div class="x14z9mp xat24cr x1lziwak x1vvkbs xtlvy1s" style="overflow-wrap: break-word\; margin-top: 0.5em\; margin-inline: 0px\; margin-bottom: 0px\; font-family: &quot\;Segoe UI Historic&quot\;\, &quot\;Segoe UI&quot\;\, Helvetica\, Arial\, sans-serif\; color: rgb(8\, 8\, 9)\; font-size: 15px\; background-color: rgb(255\, 255\, 255)\;">Beauregard Parish&rsquo\;s newest dealership is ready to roll &mdash\; and we want YOU to be part of the celebration!</div>\n\n<div class="x14z9mp xat24cr x1lziwak x1vvkbs xtlvy1s" style="overflow-wrap: break-word\; margin-top: 0.5em\; margin-inline: 0px\; margin-bottom: 0px\; font-family: &quot\;Segoe UI Historic&quot\;\, &quot\;Segoe UI&quot\;\, Helvetica\, Arial\, sans-serif\; color: rgb(8\, 8\, 9)\; font-size: 15px\; background-color: rgb(255\, 255\, 255)\;">Thursday\, September 25\, 2025<br class="html-br" />\n11:00 AM &ndash\; 6:00 PM (CDT)<br class="html-br" />\n2517 US-171\, DeRidder\, LA 70634<br class="html-br" />\n<a attributionsrc="/privacy_sandbox/comet/register/source/?xt=AZVUpgtvz_RLC19arXzBDEL3C3rRX11g0S6CGD2lwwGJDbkeSONr-rli1f8zsx9yEl5wdDkApUyhOQW4ohp7xDUhAQ2PHBa_LfFJ4B9bpOk24YN4Z9UsE57xU4pd9vlwIheurKksotoxKYNiFdR1Z292pM0ShPhVBfZXE4hvQS8gtRKmm_uS7XjXKk9Ap6tWxL-FEzFPrdK0nDUN4aeLelfUzedcin54UqCGXps_ecBcT_FDxsKbAnIwqCD877e6KVpouSwI7mBjXg71ibm4bBNzLx_wnHPQij8wTjZbchELrVSUpHe8bbygkNPXiUar41ixLNMWuUrDVMG213Hfbvf9PZkGwp057nMm1GEm5h7PmvWYbzBuuAaZYnI5tmOiFRuZoxe6oo_bjOOL3qFZ-dlQFJKJwqXeY_L2NrZWkWRB6S0EX31AwdO1eXRgi6Rh8PiSThCyoI3JbRVrxSXD9Acg-RpNcWRBzFq1vMBAThQTkmQOC7hP1Xx1xR28qOGWYJZMNPHnSUg_bTPdznWZN2zSNHcj3nA7gQAXqBqAk1uNLD7hw7BqSw2Rfz_TTL3LxX82rHGcr62y7bYyxIu-Q9_d9PD7O8Wko9VGmQ2sKoPoKVE9u5fvReT8rWQg9sAwyZKpi6MKO8rFdtLwYsTFX0COCQIBiAIwGXwqzGun6IO5nK6-y6gqo240nbmSSqACSBfVdoIaSbeIpxQCfUkdkpdfNhiRO9QaYDLteFRJe6H9iOD5g3kI7N0cVCiuUjM5F8Ygb7gTOhzAatdUVOw3L4YW8g_6y9FL6RsSWG4_PEfc7SY2NNQ2Cq1E8Uxez95a2BI" class="x1i10hfl xjbqb8w x1ejq31n x18oe1m7 x1sy0etr xstzfhl x972fbf x10w94by x1qhh985 x14e42zd x9f619 x1ypdohk xt0psk2 x3ct3a4 xdj266r x14z9mp xat24cr x1lziwak xexx8yu xyri2b x18d9i69 x1c1uobl x16tdsg8 x1hl2dhg xggy1nq x1a2a7pz xkrqix3 x1sur9pj x1fey0fg x1s688f" href="http://www.hixsontoyota.com/?fbclid=IwZXh0bgNhZW0CMTAAYnJpZBExdlpwb1BxODNIc3RvcjRpdQEeeTrqtXfzExL0ACeDtQGNFcmh1AnfFXvjNev3fHcKJN_VkCyMB0V6WHsgIKc_aem_20CTs4qgNICoSYKkt0q1RQ" rel="nofollow noreferrer" role="link" style="color: rgb(0\, 100\, 209)\; cursor: pointer\; text-decoration-line: none\; text-align: inherit\; list-style-type: none\; box-sizing: border-box\; background-color: transparent\; outline: none\; -webkit-tap-highlight-color: transparent\; font-weight: 600\; touch-action: manipulation\; display: inline\; border-inline-width: 0px\; margin-inline: 0px\; border-inline-style: none\; padding-inline: 0px\; padding-bottom: 0px\; border-top-style: none\; border-bottom-width: 0px\; border-bottom-style: none\; border-top-width: 0px\; margin-bottom: 0px\; margin-top: 0px\; padding-top: 0px\; font-family: inherit\;" tabindex="0" target="_blank">www.hixsontoyota.com</a><br class="html-br" />\nContact: Chelsea@hixsonhasit.com</div>\n\n<div class="x14z9mp xat24cr x1lziwak x1vvkbs xtlvy1s" style="overflow-wrap: break-word\; margin-top: 0.5em\; margin-inline: 0px\; margin-bottom: 0px\; font-family: &quot\;Segoe UI Historic&quot\;\, &quot\;Segoe UI&quot\;\, Helvetica\, Arial\, sans-serif\; color: rgb(8\, 8\, 9)\; font-size: 15px\; background-color: rgb(255\, 255\, 255)\;"><strong>Event Schedule:<br class="html-br" />\n<span style="color:#0000CD\;">Business Community Reception: 11:00 AM &ndash\; 1:00 PM</span><br class="html-br" />\n<span style="color:#FF0000\;">Ribbon Cutting Ceremony: 12:00 PM</span><br class="html-br" />\n<span style="color:#0000FF\;">Toyota Grand Opening Celebration: 4:30 PM &ndash\; 6:00 PM</span></strong><br />\n&nbsp\;</div>\n\n<div class="x14z9mp xat24cr x1lziwak x1vvkbs xtlvy1s" style="overflow-wrap: break-word\; margin-top: 0.5em\; margin-inline: 0px\; margin-bottom: 0px\; font-family: &quot\;Segoe UI Historic&quot\;\, &quot\;Segoe UI&quot\;\, Helvetica\, Arial\, sans-serif\; color: rgb(8\, 8\, 9)\; font-size: 15px\; background-color: rgb(255\, 255\, 255)\;">Come tour the state-of-the-art dealership\, meet the team\, enjoy light refreshments\, and help us kick off a new era of Toyota in Beauregard Parish!</div>\n\n<div class="x14z9mp xat24cr x1lziwak x1vvkbs xtlvy1s" style="overflow-wrap: break-word\; margin-top: 0.5em\; margin-inline: 0px\; margin-bottom: 0px\; font-family: &quot\;Segoe UI Historic&quot\;\, &quot\;Segoe UI&quot\;\, Helvetica\, Arial\, sans-serif\; color: rgb(8\, 8\, 9)\; font-size: 15px\; background-color: rgb(255\, 255\, 255)\;">Whether you&rsquo\;re in the market for a new ride or just want to celebrate something BIG happening in DeRidder &mdash\; you won&rsquo\;t want to miss it!</div>\n\n<div class="x14z9mp xat24cr x1lziwak x1vvkbs xtlvy1s" style="overflow-wrap: break-word\; margin-top: 0.5em\; margin-inline: 0px\; margin-bottom: 0px\; font-family: &quot\;Segoe UI Historic&quot\;\, &quot\;Segoe UI&quot\;\, Helvetica\, Arial\, sans-serif\; color: rgb(8\, 8\, 9)\; font-size: 15px\; background-color: rgb(255\, 255\, 255)\;">Location Address:<br class="html-br" />\n2517 US-171\, DeRidder\, LA 70634</div>\n\n<div class="x14z9mp xat24cr x1lziwak x1vvkbs xtlvy1s" style="overflow-wrap: break-word\; margin-top: 0.5em\; margin-inline: 0px\; margin-bottom: 0px\; font-family: &quot\;Segoe UI Historic&quot\;\, &quot\;Segoe UI&quot\;\, Helvetica\, Arial\, sans-serif\; color: rgb(8\, 8\, 9)\; font-size: 15px\; background-color: rgb(255\, 255\, 255)\;">Hixson Has It&hellip\; and now\, so does DeRidder!</div>\n
LOCATION:2517 US-171\, DeRidder\, LA 70634
UID:e.2676.1637
SEQUENCE:3
DTSTAMP:20260420T131532Z
URL:https://business.beauchamber.org/events/details/grand-opening-of-hixson-toyota-in-deridder-1637
END:VEVENT

END:VCALENDAR
