BEGIN:VCALENDAR
VERSION:2.0
PRODID:-//ChamberMaster//Event Calendar 2.0//EN
METHOD:PUBLISH
X-PUBLISHED-TTL:P3D
REFRESH-INTERVAL:P3D
CALSCALE:GREGORIAN
BEGIN:VEVENT
DTSTART:20251024T153000Z
DTEND:20251024T183000Z
X-MICROSOFT-CDO-ALLDAYEVENT:FALSE
SUMMARY:Pork Steak Dinner Fundraiser by the SWLA Shrine Club
DESCRIPTION:SWLA Shrine Club Pork Steak Dinner Fundraiser\n\nThursday\, October 24\, 2025\n\n10:30 AM   1:30 PM\n\nDeRidder Masonic Lodge   320 Shirley Street\, DeRidder\, LA\n\n\n\nJoin us for a delicious lunch and support a great cause! The Southwest Louisiana Shrine Club is hosting a Pork Steak Dinner Fundraiser\, and you're invited!\n\n\n\nMenu:\n\nTender Pork Steak \n\nBaked Beans\, Corn\, Bread & Dessert\n\n\n\nOnly $15.00 per plate\n\n\n\nPre-order today to guarantee your plate! \n\nCall or Text: 337-396-6738 or 217-276-9472\n\n\n\nAll proceeds benefit the Southwest Louisiana Shrine Club\, helping us continue our mission of supporting Shriners Children's hospitals and services.\n\n\n\nTo learn more about how Shriners make a difference in the lives of children every day\, visit: shrinerchildrens.org
X-ALT-DESC;FMTTYPE=text/html:<span style="white-space-collapse: preserve\;">SWLA Shrine Club Pork Steak Dinner Fundraiser</span><br />\n<span style="white-space-collapse: preserve\;">Thursday\, October 24\, 2025</span><br />\n<span style="white-space-collapse: preserve\;">10:30 AM &ndash\; 1:30 PM</span><br />\n<span style="white-space-collapse: preserve\;">DeRidder Masonic Lodge &ndash\; 320 Shirley Street\, DeRidder\, LA</span><br />\n<br />\n<span style="white-space-collapse: preserve\;">Join us for a delicious lunch and support a great cause! The Southwest Louisiana Shrine Club is hosting a Pork Steak Dinner Fundraiser\, and you&rsquo\;re invited!</span><br />\n<br />\n<span style="white-space-collapse: preserve\;">Menu:</span><br />\n<span style="white-space-collapse: preserve\;">Tender Pork Steak </span><br />\n<span style="white-space-collapse: preserve\;">Baked Beans\, Corn\, Bread &amp\; Dessert</span><br />\n<br />\n<span style="white-space-collapse: preserve\;">Only $15.00 per plate</span><br />\n<br />\n<span style="white-space-collapse: preserve\;">Pre-order today to guarantee your plate! </span><br />\n<span style="white-space-collapse: preserve\;">Call or Text: 337-396-6738 or 217-276-9472</span><br />\n<br />\n<span style="white-space-collapse: preserve\;">All proceeds benefit the Southwest Louisiana Shrine Club\, helping us continue our mission of supporting Shriners Children&rsquo\;s hospitals and services.</span><br />\n<br />\n<span style="white-space-collapse: preserve\;">To learn more about how Shriners make a difference in the lives of children every day\, visit: shrinerchildrens.org</span>
LOCATION:DeRidder Masonic Lodge 320 Shirley Street\, DeRidder\, LA
UID:e.2676.1644
SEQUENCE:3
DTSTAMP:20260422T101553Z
URL:https://business.beauchamber.org/events/details/pork-steak-dinner-fundraiser-by-the-swla-shrine-club-1644
END:VEVENT

END:VCALENDAR
