BEGIN:VCALENDAR
VERSION:2.0
PRODID:-//ChamberMaster//Event Calendar 2.0//EN
METHOD:PUBLISH
X-PUBLISHED-TTL:P3D
REFRESH-INTERVAL:P3D
CALSCALE:GREGORIAN
BEGIN:VEVENT
DTSTART:20251016T213000Z
DTEND:20251016T223000Z
X-MICROSOFT-CDO-ALLDAYEVENT:FALSE
SUMMARY:Ribbon Cutting of Wesley Playground by First Methodist Church
DESCRIPTION:Mark your calendars and join us for the grand unveiling of our brand new playground!\n\nThursday\, October 16th\, at 4:30 PM\n\nDedication and Grand Opening begins at 4:30 PM\, followed by a fun-filled children's bicycle ride\, delicious hot dogs\, and tons of family fun starting at 5:00 PM!\n\nDon't miss out on the biggest outdoor event of the season bring your friends and family and celebrate with us! See you there
X-ALT-DESC;FMTTYPE=text/html:<div class="xdj266r x14z9mp xat24cr x1lziwak x1vvkbs x126k92a" style="overflow-wrap: break-word\; white-space-collapse: preserve\; margin-inline: 0px\; margin-bottom: 0px\; margin-top: 0px\; font-family: &quot\;Segoe UI Historic&quot\;\, &quot\;Segoe UI&quot\;\, Helvetica\, Arial\, sans-serif\; color: rgb(8\, 8\, 9)\; font-size: 15px\; background-color: rgb(255\, 255\, 255)\;">\n<div dir="auto" style="font-family: inherit\;">\n<div class="xdj266r x14z9mp xat24cr x1lziwak x1vvkbs x126k92a" style="overflow-wrap: break-word\; white-space-collapse: preserve\; margin-inline: 0px\; margin-bottom: 0px\; margin-top: 0px\; font-family: &quot\;Segoe UI Historic&quot\;\, &quot\;Segoe UI&quot\;\, Helvetica\, Arial\, sans-serif\; color: rgb(8\, 8\, 9)\; font-size: 15px\; background-color: rgb(255\, 255\, 255)\;">\n<div dir="auto" style="font-family: inherit\;">Mark your calendars and join us for the grand unveiling of our brand new playground!<br />\nThursday\, October 16th\, at 4:30 PM<br />\nDedication and Grand Opening begins at 4:30 PM\, followed by a fun-filled children&rsquo\;s bicycle ride\, delicious hot dogs\, and tons of family fun starting at 5:00 PM!<br />\nDon&rsquo\;t miss out on the biggest outdoor event of the season&mdash\;bring your friends and family and celebrate with us! See you there</div>\n</div>\n</div>\n</div>\n
LOCATION:701 North Texas Street\; DeRidder\, LA
UID:e.2676.1650
SEQUENCE:3
DTSTAMP:20260420T112722Z
URL:https://business.beauchamber.org/events/details/ribbon-cutting-of-wesley-playground-by-first-methodist-church-1650
END:VEVENT

END:VCALENDAR
