BEGIN:VCALENDAR
VERSION:2.0
PRODID:-//ChamberMaster//Event Calendar 2.0//EN
METHOD:PUBLISH
X-PUBLISHED-TTL:P3D
REFRESH-INTERVAL:P3D
CALSCALE:GREGORIAN
BEGIN:VEVENT
DTSTART:20250320T160000Z
DTEND:20250320T180000Z
X-MICROSOFT-CDO-ALLDAYEVENT:FALSE
SUMMARY:Thriving in Uncertainty: A Strategic Roadmap for Success - FREE Workshop #1
DESCRIPTION:Thriving in Uncertainty: A Strategic Roadmap for Success - Workshop #1\n\n \n\nTo Register: https://forms.gle/zSgcS3nqS2FfYz98A\n\n \n\nJoin Business & Workforce Recovery Solutions and the Greater Beauregard Chamber of Commerce for a hands-on training workshop designed to help small businesses\, nonprofits\, organizations\, and individuals navigate uncertain times with confidence\, make informed decisions\, and develop a strategic roadmap for success.\n\n\n\nThursday\, March 20\, 2025\, from 11:00 AM   1:00 PM\n\nGreater Beauregard Chamber of Commerce\, 111 North Washington St.\, DeRidder\, LA 70634\n\n\n\nFor Questions - Dr. Cathy Denison-Robert\, MBA\, at cathy@businessworkforcerecovery.com or (337) 502-1911. \n\n \n\nThe free workshop with snacks and prizes is hosted by the SWLA Recovery Project for Small Businesses\, Nonprofits\, Workers\, Families\, and Individuals\, mainly funded by the United Way of Southwest LA. Thanks to the United Way of SWLA for the support!\n\n\n\nAbout the Workshop\n\nIn today's unpredictable economic and workforce landscape\, the ability to adapt and act is\n\nessential. This workshop will provide the strategic tools\, ideas\, and interactive activities\n\nneeded to turn uncertainty into opportunity.\n\n-Strategic Planning for Success\n\n-SWOT Analysis\n\n-Smart Decision-Making Techniques\n\n-Interactive Activities &amp\; Idea Sharing\n\nWho Should Attend: Small business owners\, Nonprofits &amp\; agencies\, Aspiring entrepreneurs\,\n\nIndividuals
X-ALT-DESC;FMTTYPE=text/html:<div style="color:rgb(34\, 34\, 34)\;font-family:Arial\, Helvetica\, sans-serif\;font-size:small\;"><span style="font-family:times new roman\,serif\;"><span style="font-size:13.5pt\;"><strong>Thriving in Uncertainty: A Strategic Roadmap for Success -&nbsp\;</strong>Workshop #1</span></span><br />\n&nbsp\;</div>\n\n<div style="color:rgb(34\, 34\, 34)\;font-family:Arial\, Helvetica\, sans-serif\;font-size:small\;"><span style="font-size:16px\;"><strong><span style="color:#000080\;">To Register:&nbsp\;</span><a data-saferedirecturl="https://www.google.com/url?q=https://forms.gle/zSgcS3nqS2FfYz98A&amp\;source=gmail&amp\;ust=1740506466926000&amp\;usg=AOvVaw1UZArFTIbe1VTbaK1jtl2p" href="https://forms.gle/zSgcS3nqS2FfYz98A" style="color:rgb(17\, 85\, 204)\;" target="_blank"><span style="color:#000080\;">https://forms.gle/<wbr />zSgcS3nqS2FfYz98A</span></a></strong></span></div>\n\n<div style="color:rgb(34\, 34\, 34)\;font-family:Arial\, Helvetica\, sans-serif\;font-size:small\;">&nbsp\;</div>\n\n<div style="color:rgb(34\, 34\, 34)\;font-family:Arial\, Helvetica\, sans-serif\;font-size:small\;">Join&nbsp\;<strong>Business &amp\; Workforce Recovery Solutions&nbsp\;</strong>and the&nbsp\;<strong>Greater Beauregard Chamber of Commerce</strong>&nbsp\;for a hands-on training workshop designed to help small businesses\, nonprofits\, organizations\, and individuals navigate uncertain times with confidence\, make informed decisions\, and develop a strategic roadmap for success.<br />\n<br />\n<strong>Thursday\, March 20\, 2025\, from 11:00 AM &ndash\; 1:00 PM<br />\nGreater Beauregard Chamber of Commerce</strong>\, 111 North Washington St.\, DeRidder\, LA 70634<br />\n<br />\n<strong>For Questions</strong>&nbsp\;- Dr. Cathy Denison-Robert\, MBA\, at&nbsp\;<a href="mailto:cathy@businessworkforcerecovery.com" style="color:rgb(17\, 85\, 204)\;" target="_blank">cathy@<wbr />businessworkforcerecovery.com</a>&nbsp\;or (337) 502-1911.&nbsp\;</div>\n\n<div style="color:rgb(34\, 34\, 34)\;font-family:Arial\, Helvetica\, sans-serif\;font-size:small\;">&nbsp\;</div>\n\n<div style="color:rgb(34\, 34\, 34)\;font-family:Arial\, Helvetica\, sans-serif\;font-size:small\;">The&nbsp\;<strong>free workshop with snacks and prizes&nbsp\;</strong>is hosted by the&nbsp\;<strong>SWLA Recovery Project&nbsp\;</strong>for Small Businesses\, Nonprofits\, Workers\, Families\, and Individuals\, mainly funded by the United Way of Southwest LA.&nbsp\;<strong>Thanks to the United Way of SWLA</strong>&nbsp\;for the support!<br />\n<br />\nAbout the Workshop<br />\nIn today&rsquo\;s unpredictable economic and workforce landscape\, the ability to adapt and act is<br />\nessential. This workshop will provide the strategic tools\, ideas\, and interactive activities<br />\nneeded to turn uncertainty into opportunity.<br />\n-Strategic Planning for Success<br />\n-SWOT Analysis<br />\n-Smart Decision-Making Techniques<br />\n-Interactive Activities &amp\;amp\; Idea Sharing<br />\nWho Should Attend: Small business owners\, Nonprofits &amp\;amp\; agencies\, Aspiring entrepreneurs\,<br />\nIndividuals</div>\n
LOCATION:Greater Beauregard Chamber of Commerce\, 111 North Washington St.\, DeRidder\, LA 70634
UID:e.2676.1574
SEQUENCE:3
DTSTAMP:20260421T030506Z
URL:https://business.beauchamber.org/events/details/thriving-in-uncertainty-a-strategic-roadmap-for-success-free-workshop-1-1574
END:VEVENT

END:VCALENDAR
