BEGIN:VCALENDAR
VERSION:2.0
PRODID:-//ChamberMaster//Event Calendar 2.0//EN
METHOD:PUBLISH
X-PUBLISHED-TTL:P3D
REFRESH-INTERVAL:P3D
CALSCALE:GREGORIAN
BEGIN:VEVENT
DTSTART;VALUE=DATE:20251011
DTEND;VALUE=DATE:20251012
TRANSP:TRANSPARENT
X-MICROSOFT-CDO-ALLDAYEVENT:TRUE
SUMMARY:Worship In The Boot: A Christian Concert by the Beauregard Covered Arena
DESCRIPTION:Get ready for an unforgettable night of music and worship at the Beauregard Covered Arena! We are thrilled to announce the lineup for our highly anticipated event\, Worship in the Boot\, a vibrant Christian concert set for Saturday\, October 11\, 2025.\n\nJoin us as we celebrate with Grammy Award-winning artist Rebecca St. James! She'll be joined by the amazing LO Worship\, known for their memorable appearance on Duck Dynasty: The Revival\, as well as the talented Jason Lovins Band\, 2025 GMA Dove Award nominees. Additionally\, we are honored to welcome Donnie Bolden Jr. with Lighthouse for Jesus Ministries.\n\nThis extraordinary lineup promises to ignite a revival that will resonate throughout Louisiana. Don't miss your chance to be part of this powerful night of worship at the Beauregard Covered Arena\, let your joyful voices be heard at Worship in the Boot!\n\n \n\nTickets are ON SALE NOW for Worship in the Boot! \n\nGates open at 3:30 PM\n\n	Donnie Bolden Jr   5:00 PM\n	Jason Lovins Band   6:00 PM\n	LO Worship   7:00 PM\n	Grammy Award winning artist Rebecca St James   8:00 PM\n\nAdvance Tickets:\n\nBleacher General Admission   $30\n\nFloor General Admission (up close to the stage!)   $50\n\nGet your tickets now: https://aftontickets.com/event/buyticket/qpxvv5q2xe\n\nFood trucks and vendors will be on-site! Come early to grab your seat\, enjoy some great food\, and fellowship before the music begins.\n\nDon't miss this unforgettable night of worship   get your tickets today!\n\n  \n\nVendor Opportunities Available!  We are excited to announce that Worship in the Boot will be held at the Beauregard Parish Covered Arena on October 11\, 2025\, and we are now accepting vendor applications! \n\n\n	Food Trucks/Trailers   $125 or $150\n	Vendor Booths   $25\n\nBusiness Information Booths   Must be nonprofit and approved by arena staff\n\nDon't miss this opportunity to showcase your business\, food\, or ministry at this amazing community event!\n\nApply now by filling out this form:\n\nhttps://form.jotform.com/casuper/worship-in-the-boot-vendors\n\n\n\nFOR UP TO DATE INFORMATION ABOUT THE EVENT\, FOLLOW THE FACEBOOK EVENT PAGE AT : https://www.facebook.com/share/1GcLwt2tgv/
X-ALT-DESC;FMTTYPE=text/html:<div class="xdj266r x14z9mp xat24cr x1lziwak x1vvkbs" style="overflow-wrap: break-word\; margin-inline: 0px\; margin-bottom: 0px\; margin-top: 0px\; font-family: &quot\;Segoe UI Historic&quot\;\, &quot\;Segoe UI&quot\;\, Helvetica\, Arial\, sans-serif\; color: rgb(8\, 8\, 9)\; font-size: 15px\; background-color: rgb(255\, 255\, 255)\;"><span style="color:#080809\;"><span style="font-family:arial\,sans-serif\;"><span style="font-size:11.5pt\;">Get ready for an unforgettable night of music and worship at the Beauregard Covered Arena! We are thrilled to announce the lineup for our highly anticipated event\, <strong>Worship in the Boot</strong>\, a vibrant Christian concert set for <strong>Saturday\, October 11\, 2025</strong>.</span></span></span><br />\n<span style="color:#080809\;"><span style="font-family:arial\,sans-serif\;"><span style="font-size:11.5pt\;">Join us as we celebrate with Grammy Award-winning artist Rebecca St. James! She&#39\;ll be joined by the amazing LO Worship\, known for their memorable appearance on Duck Dynasty: The Revival\, as well as the talented Jason Lovins Band\, 2025 GMA Dove Award nominees. Additionally\, we are honored to welcome Donnie Bolden Jr. with Lighthouse for Jesus Ministries.</span></span></span><br />\n<span style="color:#080809\;"><span style="font-family:arial\,sans-serif\;"><span style="font-size:11.5pt\;">This extraordinary lineup promises to ignite a revival that will resonate throughout Louisiana. Don&#39\;t miss your chance to be part of this powerful night of worship at the Beauregard Covered Arena\, let your joyful voices be heard at Worship in the Boot!<br />\n&nbsp\;</span></span></span><br />\n<strong><span style="color:#080809\;"><span style="font-family:arial\,sans-serif\;"><span style="font-size:11.5pt\;">Tickets are ON SALE NOW for Worship in the Boot! </span></span></span></strong><br />\n<span style="color:#080809\;"><span style="font-family:arial\,sans-serif\;"><span style="font-size:11.5pt\;">Gates open at 3:30 PM</span></span></span>\n<ul>\n	<li style="margin-bottom:0in\;margin-bottom:.0001pt\;background:white\;"><span style="color:#080809\;"><span style="font-family:arial\,sans-serif\;"><span style="font-size:11.5pt\;">Donnie Bolden Jr &ndash\; 5:00 PM</span></span></span></li>\n	<li style="margin-bottom:0in\;margin-bottom:.0001pt\;background:white\;"><span style="color:#080809\;"><span style="font-family:arial\,sans-serif\;"><span style="font-size:11.5pt\;">Jason Lovins Band &ndash\; 6:00 PM</span></span></span></li>\n	<li style="margin-bottom:0in\;margin-bottom:.0001pt\;background:white\;"><span style="color:#080809\;"><span style="font-family:arial\,sans-serif\;"><span style="font-size:11.5pt\;">LO Worship &ndash\; 7:00 PM</span></span></span></li>\n	<li style="margin-bottom:0in\;margin-bottom:.0001pt\;background:white\;"><span style="color:#080809\;"><span style="font-family:arial\,sans-serif\;"><span style="font-size:11.5pt\;">Grammy Award&ndash\;winning artist Rebecca St James &ndash\; 8:00 PM</span></span></span></li>\n</ul>\n<span style="color:#080809\;"><span style="font-family:arial\,sans-serif\;"><span style="font-size:11.5pt\;">Advance Tickets:</span></span></span><br />\n<span style="color:#080809\;"><span style="font-family:arial\,sans-serif\;"><span style="font-size:11.5pt\;">Bleacher General Admission &ndash\; $30</span></span></span><br />\n<span style="color:#080809\;"><span style="font-family:arial\,sans-serif\;"><span style="font-size:11.5pt\;">Floor General Admission (up close to the stage!) &ndash\; $50</span></span></span><br />\n<span style="color:#080809\;"><span style="font-family:arial\,sans-serif\;"><span style="font-size:11.5pt\;">Get your tickets now: <a href="https://aftontickets.com/event/buyticket/qpxvv5q2xe?fbclid=IwZXh0bgNhZW0CMTAAYnJpZBExRWJYMThQVkZ0WkJuWGJWcgEeY5g2xQ0v5-M-wonAaIvNoXTUv0gDSv6V6EGz1_X8BPdIMCLv11p0sWsLDck_aem_HUhM4HeVQlpL-7V3RdRFNQ" target="_blank"><strong><span style="border:none windowtext 1.0pt\;padding:0in\;"><span style="color:#0064D1\;">https://aftontickets.com/event/buyticket/qpxvv5q2xe</span></span></strong></a></span></span></span><br />\n<span style="color:#080809\;"><span style="font-family:arial\,sans-serif\;"><span style="font-size:11.5pt\;">Food trucks and vendors will be on-site! Come early to grab your seat\, enjoy some great food\, and fellowship before the music begins.</span></span></span><br />\n<span style="color:#080809\;"><span style="font-family:arial\,sans-serif\;"><span style="font-size:11.5pt\;">Don&rsquo\;t miss this unforgettable night of worship &mdash\; get your tickets today!<br />\n&nbsp\; </span></span></span><br />\n<strong><span style="color:#080809\;"><span style="font-family:arial\,sans-serif\;"><span style="font-size:11.5pt\;">Vendor Opportunities Available! </span></span></span></strong><span style="color:#080809\;"><span style="font-family:arial\,sans-serif\;"><span style="font-size:11.5pt\;">&nbsp\;We are excited to announce that <strong>Worship in the Boot</strong> will be held at the Beauregard Parish Covered Arena on<strong> October 11\, 2025</strong>\, and we are now accepting vendor applications! </span></span></span>\n\n<ul>\n	<li style="margin-bottom:0in\;margin-bottom:.0001pt\;background:white\;"><span style="color:#080809\;"><span style="font-family:arial\,sans-serif\;"><span style="font-size:11.5pt\;">Food Trucks/Trailers &ndash\; $125 or $150</span></span></span></li>\n	<li style="margin-bottom:0in\;margin-bottom:.0001pt\;background:white\;"><span style="color:#080809\;"><span style="font-family:arial\,sans-serif\;"><span style="font-size:11.5pt\;">Vendor Booths &ndash\; $25</span></span></span></li>\n</ul>\n<span style="color:#080809\;"><span style="font-family:arial\,sans-serif\;"><span style="font-size:11.5pt\;">Business Information Booths &ndash\; Must be nonprofit and approved by arena staff</span></span></span><br />\n<span style="color:#080809\;"><span style="font-family:arial\,sans-serif\;"><span style="font-size:11.5pt\;">Don&rsquo\;t miss this opportunity to showcase your business\, food\, or ministry at this amazing community event!</span></span></span><br />\n<span style="color:#080809\;"><span style="font-family:arial\,sans-serif\;"><span style="font-size:11.5pt\;">Apply now by filling out this form:</span></span></span><br />\n<span style="color:#080809\;"><span style="font-family:arial\,sans-serif\;"><span style="font-size:11.5pt\;"><a href="https://form.jotform.com/casuper/worship-in-the-boot-vendors?fbclid=IwZXh0bgNhZW0CMTAAYnJpZBExRWJYMThQVkZ0WkJuWGJWcgEelN4r2WQK5kreNYolooY6GyXQ2PgGlrUJ0u6TDCCVspWCu7hY6tk_SncWDTg_aem_2W0Uzd7RLIzPN6F-_lL__w" target="_blank"><strong><span style="border:none windowtext 1.0pt\;padding:0in\;"><span style="color:#0064D1\;">https://form.jotform.com/casuper/worship-in-the-boot-vendors</span></span></strong></a><br />\n<br />\nFOR UP TO DATE INFORMATION ABOUT THE EVENT\, FOLLOW THE FACEBOOK EVENT PAGE AT : <a href="https://www.facebook.com/share/1GcLwt2tgv/"><strong><span style="text-decoration:none\;text-underline:none\;"><span style="color:red\;">https://www.facebook.com/share/1GcLwt2tgv/</span></span></strong></a></span></span></span><br />\n&nbsp\;</div>\n
LOCATION:Beauregard Covered Arena 5515 Hwy 190 W DeRidder\, LA 70634
UID:e.2676.1642
SEQUENCE:3
DTSTAMP:20260420T112844Z
URL:https://business.beauchamber.org/events/details/worship-in-the-boot-a-christian-concert-by-the-beauregard-covered-arena-1642
END:VEVENT

END:VCALENDAR
