BEGIN:VCALENDAR
VERSION:2.0
PRODID:-//ChamberMaster//Event Calendar 2.0//EN
METHOD:PUBLISH
X-PUBLISHED-TTL:P3D
REFRESH-INTERVAL:P3D
CALSCALE:GREGORIAN
BEGIN:VEVENT
DTSTART:20250925T170000Z
DTEND:20250925T180000Z
X-MICROSOFT-CDO-ALLDAYEVENT:FALSE
SUMMARY:Your Voice Matters! with the Beauregard Health System
DESCRIPTION:YOUR VOICE MATTERS!\n\nJoin the BHS Patient & Family Advisory Council\n\nThursday\, Sept. 25\n\n12:00   1:00 PM\n\nLight lunch provided\n\nWe're bringing patients\, families\, and the BHS team together to:\n\n\n	Share valuable perspectives\n	Strengthen quality care\n	Advance patient safety\n	Make a difference in OUR community \n\nBe part of the conversation. Be part of the change.\n\nTogether\, we can shape the future of care at Beauregard Health System!\n\n \n\nLocated at 903 West 1st Street\; DeRidder\, La 70634\n\n \n\nTo learn more or to join\, contact Sylvia Smith at 337-462-7418 or sylvia.smith@beauregard.org
X-ALT-DESC;FMTTYPE=text/html:<span style="color:#080809\;"><span style="font-family:inherit\,serif\;"><span style="font-size:11.5pt\;">YOUR VOICE MATTERS!</span></span></span><br />\n<span style="color:#080809\;"><span style="font-family:inherit\,serif\;"><span style="font-size:11.5pt\;">Join the BHS Patient &amp\; Family Advisory Council</span></span></span><br />\n<span style="color:#080809\;"><span style="font-family:inherit\,serif\;"><span style="font-size:11.5pt\;">Thursday\, Sept. 25</span></span></span><br />\n<span style="color:#080809\;"><span style="font-family:inherit\,serif\;"><span style="font-size:11.5pt\;">12:00 &ndash\; 1:00 PM</span></span></span><br />\n<span style="color:#080809\;"><span style="font-family:inherit\,serif\;"><span style="font-size:11.5pt\;">Light lunch provided</span></span></span><br />\n<span style="color:#080809\;"><span style="font-family:inherit\,serif\;"><span style="font-size:11.5pt\;">We&rsquo\;re bringing patients\, families\, and the BHS team together to:</span></span></span>\n\n<ul>\n	<li style="margin-bottom:0in\;margin-bottom:.0001pt\;background:white\;"><span style="color:#080809\;"><span style="font-family:inherit\,serif\;"><span style="font-size:11.5pt\;">Share valuable perspectives</span></span></span></li>\n	<li style="margin-bottom:0in\;margin-bottom:.0001pt\;background:white\;"><span style="color:#080809\;"><span style="font-family:inherit\,serif\;"><span style="font-size:11.5pt\;">Strengthen quality care</span></span></span></li>\n	<li style="margin-bottom:0in\;margin-bottom:.0001pt\;background:white\;"><span style="color:#080809\;"><span style="font-family:inherit\,serif\;"><span style="font-size:11.5pt\;">Advance patient safety</span></span></span></li>\n	<li style="margin-bottom:0in\;margin-bottom:.0001pt\;background:white\;"><span style="color:#080809\;"><span style="font-family:inherit\,serif\;"><span style="font-size:11.5pt\;">Make a difference in OUR community </span></span></span></li>\n</ul>\n<span style="color:#080809\;"><span style="font-family:inherit\,serif\;"><span style="font-size:11.5pt\;">Be part of the conversation. Be part of the change.</span></span></span><br />\n<span style="color:#080809\;"><span style="font-family:inherit\,serif\;"><span style="font-size:11.5pt\;">Together\, we can shape the future of care at Beauregard Health System!</span></span></span><br />\n&nbsp\;<br />\n<span style="color:#080809\;"><span style="font-family:inherit\,serif\;"><span style="font-size:11.5pt\;">Located at 903 West 1<sup>st</sup> Street\; DeRidder\, La 70634</span></span></span><br />\n&nbsp\;<br />\n<span style="color:#080809\;"><span style="font-family:inherit\,serif\;"><span style="font-size:11.5pt\;">To learn more or to join\, contact Sylvia Smith at 337-462-7418 or sylvia.smith@beauregard.org</span></span></span>
LOCATION:Thursday\, Sept. 25 12:00 1:00 PM
UID:e.2676.1646
SEQUENCE:3
DTSTAMP:20260420T130035Z
URL:https://business.beauchamber.org/events/details/your-voice-matters-with-the-beauregard-health-system-1646
END:VEVENT

END:VCALENDAR
